Workbook
Name _01: [1]Opciones!$N$70:$N$76
Name _01: Opciones!$N$70:$N$76
Name _02: [1]Opciones!$N$78:$N$83
Name _02: Opciones!$N$78:$N$83
Name _03: [1]Opciones!$N$85:$N$89
Name _03: Opciones!$N$85:$N$89
Name _04: [1]Opciones!$N$91
Name _04: Opciones!$N$91
Name _05: #REF!
Name _06: #REF!
Name _07: #REF!
Name _09: #REF!
Name _1: [1]Opciones!$B$21:$B$32
Name _1: Opciones!$B$21:$B$32
Name _10: #REF!
Name _11: #REF!
Name _2: [1]Opciones!$B$33:$B$47
Name _2: Opciones!$B$33:$B$47
Name _201: #REF!
Name _202: #REF!
Name _208: #REF!
Name _211: #REF!
Name _212: #REF!
Name _214: #REF!
Name _215: #REF!
Name _3: [1]Opciones!$B$48:$B$52
Name _3: Opciones!$B$48:$B$52
Name _301: #REF!
Name _303: #REF!
Name _4: [1]Opciones!$B$53:$B$56
Name _4: Opciones!$B$53:$B$56
Name ANDE: [1]Opciones!#REF!
Name ANDE: Opciones!#REF!
Name ANNP: [1]Opciones!#REF!
Name ANNP: Opciones!#REF!
Name BCP: [1]Opciones!#REF!
Name BCP: Opciones!#REF!
Name CONACYT: [1]Opciones!#REF!
Name CONACYT: Opciones!#REF!
Name CONATEL: [1]Opciones!#REF!
Name CONATEL: Opciones!#REF!
Name COPACO: [1]Opciones!#REF!
Name COPACO: Opciones!#REF!
Name CSJ: [1]Opciones!#REF!
Name CSJ: Opciones!#REF!
Name DGEEC: [1]Opciones!#REF!
Name DGEEC: Opciones!#REF!
Name DINAC: [1]Opciones!#REF!
Name DINAC: Opciones!#REF!
Name DINACOPA: [1]Opciones!#REF!
Name DINACOPA: Opciones!#REF!
Name DNA: [1]Opciones!#REF!
Name DNA: Opciones!#REF!
Name ERSSAN: [1]Opciones!#REF!
Name ERSSAN: Opciones!#REF!
Name ESSAP: [1]Opciones!#REF!
Name ESSAP: Opciones!#REF!
Name FACEN: [1]Opciones!#REF!
Name FACEN: Opciones!#REF!
Name FCM: [1]Opciones!#REF!

Sheet Ficha_Tecnica
E5: Ficha técnica de Operaciones Estadísticas
B6: Se considera Operación Estadística (OE) al conjunto de actividades cuyo objetivo es: ® la producción original de datos primarios mediante recolección propia de datos (Por ejemplo, Censo Nacional Docente, Censo de Población y Vivienda, Encuestas a Hogares). ® la elaboración de estadísticas en base a datos administrativos originales (registros) (Por ejemplo, estadísticas vitales). ® la elaboración de resultados en base a datos secundarios (Por ejemplo, Estimador Mensual Industrial) y la recopilación de resultados y la confección de análisis y de síntesis (Por ejemplo, cuentas nacionales, tablas de mortalidad, anuarios). ® los trabajos de infraestructura y de normalización estadística (Por ejemplo, marcos muestrales, clasificadores y directorios). Se relevarán las OE que satisfagan, por lo menos uno de los siguientes criterios: ® deben existir datos recolectados o procesados del período en curso. ® son consideradas relevantes para el organismo o servicio responsable del Sistema Estadístico Nacional de cada Estado Parte, siempre que sus últimos datos procesados o información resultante estén disponibles y continúen vigentes para su consulta. (Por ejemplo, censos de población, económicos u otros de similar envergadura)
B22: A. IDENTIFICACIÓN
B24: 1. País:
B26: 2. Código de la Operación Estadística
B27: De uso interno (si corresponde)
B29: 3. Nombre oficial de la Operación Estadística:
B30: Especificar:
C33: 3.1 Indicar sigla, si existe:
B35: 4. Organismo responsable
C39: 4.1. ¿Participan otros organismos en esta operación?
C40: Especificar a los otros organismos que participan en la Operación Estadística indicando hasta tres, el nombre del
C41: o los organismos y el tipo de participación.
C44: 4.1.1. Nombre del/los Organismo/s:
C46: a.
C48: b.
C50: c.
C52: 4.1.2.Tipo de participación:
C53: Se puede marcar más de una opción
C68: 4.2. ¿La Operación Estadística se encuentra vinculada o contribuye a algún instrumento de planificación, monitoreo, evaluación, difusión o compromiso estadístico nacional/internacional?
C69: Se puede marcar más de una opción
B86: 5. Unidad responsable
B87: Es la unidad o ente estadístico de mayor jerarquía, responsable y promotor de la operación estadística.
B88: Especificar:
B95: 6. Área ejecutora
B96: Se refiere al área administrativa u orgánica cuya responsabilidad primaria es la realización de la OE.
B97: Especificar:
B100: 7. Marco normativo de creación de la Operación Estadística
B101: Consignar Ley, Decreto, Disposición u otra legislación de creación. Incluir su número y/o nombre específico.
B113: B. DESCRIPCIÓN DE LA OPERACIÓN ESTADÍSTICA
B115: 8. Tema | F115: Ver Clasificador
B116: Completar la temática de la operación estadística. De ser necesario, podrá agregar hasta dos temáticas más que
B117: completen la descripción. Dentro de cada tema podrá seleccionar más de un subtema.
B119: Seleccionar los códigos correspondientes de la “Clasificación Temática de Operaciones Estadísticas”.
C121: 8.1.1. Dominio | L121: =VLOOKUP(Opciones!$M$2,Opciones!$C$15:$D$18,2,FALSE) -> #N/A
A122: 8.1. | E122: 8.1.2. Tema | M122: =VLOOKUP(Datos!$AA$4,Opciones!$C$21:$D$56,2,FALSE) -> #N/A
E123: 8.1.3.a. Subtema | N123: =VLOOKUP(Datos!$AB$4,Opciones!$C$59:$D$127,2,FALSE) -> #N/A
E124: 8.1.3.b. Subtema | N124: =VLOOKUP(Datos!$AC$4,Opciones!$C$59:$D$127,2,FALSE) -> #N/A
E125: 8.1.3.c. Subtema | N125: =VLOOKUP(Datos!$AD$4,Opciones!$C$59:$D$127,2,FALSE) -> #N/A
C129: 8.2.1. Dominio | L129: =VLOOKUP($H$129,Opciones!$C$15:$D$18,2,FALSE) -> #N/A
...

Sheet Clasificador
A1: Clasificación Temática de Operaciones Estadísticas
A2: Estructura: dominios, temas y subtemas
A3: Las notas explicativas se presentan intercaladas según la necesidad.
A4: Códigos | D4: Dominio, Tema, Subtema | E4: Descripción
A5: DOMINIO | B5: TEMA | C5: SUBTEMA
A6: 1 | D6: Demografía y Estadísticas Sociales | E6: Comprende información sobre hogares, viviendas y población y las actividades derivadas de la participación de las personas en el ámbito social.
A7: 1 | B7: 01 | C7: 0 | D7: Población
A8: 1 | B8: 01 | C8: 1 | D8: Composición y distribución: | E8: Comprende información sobre características demográficas de la población, tamaño y estructura (por edad y sexo), distribución espacial de la población, densidad, urbanización.
A9: 1 | B9: 01 | C9: 2 | D9: Dinámica demográfica y estadísticas vitales: | E9: Comprende fecundidad, mortalidad, natalidad, nupcialidad, registro civil. También documentos de identidad, pasaporte y certificado de antecedente policial.
A10: 1 | B10: 01 | C10: 3 | D10: Migraciones: | E10: Comprende inmigración, emigración y todo tipo de migraciones (laboral, fronteriza, interna, internacional, estacional, etc.). También la población repatriada que precisa de los servicios. (Por ejemplo, connacionales en situación de vulnerabilidad en el exterior , población paraguaya retornada).
A11: 1 | B11: 01 | C11: 4 | D11: Familia y Hogares: | E11: Comprende estadísticas de composición y tamaño del hogar, relación de parentesco, etc.
D12: Excluye: | E12: Indicadores, síntesis y recopilaciones sobre las condiciones de vida de la población y los hogares, incluido en 3.02.0 Condiciones de vida y pobreza.
A14: 1 | B14: 02 | C14: 0 | D14: Género y grupos poblacionales
A15: 1 | B15: 02 | C15: 1 | D15: Género: | E15: Comprende estudios de género.
A16: 1 | B16: 02 | C16: 2 | D16: Grupos poblacionales específicos: | E16: Comprende información sobre segmentos de población agrupados por alguna característica común, por ejemplo la edad (niños, adolescentes, jóvenes), la etnia (pueblos originarios), las capacidades especiales (discapacidad/dificultades), etc.
A18: 1 | B18: 03 | C18: 0 | D18: Trabajo
A19: 1 | B19: 03 | C19: 1 | D19: Mercado de trabajo: | E19: Comprende fuerza de trabajo (población económicamente activa, empleo, desempleo, subempleo, etc.), trabajo remunerado y otras formas de trabajo, demanda laboral, vacantes de empleo, creación de empleo, competencias laborales, etc.
A20: 1 | B20: 03 | C20: 2 | D20: Condiciones de trabajo: | E20: Comprende horas trabajadas, rendimiento, precariedad laboral, accidentes y lesiones de trabajo, salud y enfermedad en el trabajo, problemas de salud relacionados con el trabajo, etc.
A21: 1 | B21: 03 | C21: 3 | D21: Relaciones laborales: | E21: Comprende convenios colectivos, conflictividad laboral; huelgas y cierres patronales, participación sindical, etc.
D22: Excluye: | E22: Ingresos de hogares, incluido en 1.06.1. Seguro de desempleo y beneficios de la protección social, incluido en 1.07.3. Actividades no remuneradas (voluntariado, quehaceres domésticos), incluido en 1.12.0 Uso del tiempo. Sector informal, incluido en 2.13.4. Salarios y otras remuneraciones, incluido en 2.15.0 Costo laboral.
A24: 1 | B24: 04 | C24: 0 | D24: Educación
A25: 1 | B25: 04 | C25: 1 | D25: Nivel de Educación: | E25: Matrícula (por ejemplo de Educación inicial, Educación Escolar Básica, Educación Media ,Formación Profesional, etc )
A26: 1 | B26: 04 | C26: 2 | D26: Acceso a la Educación
A27: 1 | B27: 04 | C27: 3 | D27: Rendimiento escolar: | E27: Repitencia, desgranamiento, evaluaciones de calidad.
A28: 1 | B28: 04 | C28: 4 | D28: Recursos en educación: | E28: Recursos humanos y financieros invertidos en educación, gestión de la educación.
A29: 1 | B29: 04 | C29: 5 | D29: Universidades: | E29: Información sobre alumnos, docentes, no docentes y carreras universitarias.
A30: 1 | B30: 04 | C30: 6 | D30: Educación no formal: | E30: Estadísticas sobre formación , capacitación profesional , tecnicaturas , educación para el trabajo, etc.
A32: 1 | B32: 05 | C32: 0 | D32: Salud
A33: 1 | B33: 05 | C33: 1 | D33: Morbilidad: | E33: Causas de muerte, enfermedades, morbimortalidad,, actividades epidemiológicas , etc.
A34: 1 | B34: 05 | C34: 2 | D34: Atención de la salud: | E34: Acceso y utilización de servicios de salud.
A35: 1 | B35: 05 | C35: 3 | D35: Recursos en salud: | E35: Camas, hospitales, recursos humanos.
A36: 1 | B36: 05 | C36: 4 | D36: Medicamentos: | E36: Consumo.
A37: 1 | B37: 05 | C37: 5 | D37: Prevención de la salud: | E37: Vacunación, seguridad alimentaria (humana y productos de origen animal), seguridad de reactivos, actividades epidemiológicas, etc.
A38: 1 | B38: 05 | C38: 6 | D38: Determinantes de la salud: | E38: Estilo de vida, tabaquismo, nutrición, alcoholismo, consumo de drogas.
A40: 1 | B40: 06 | C40: 0 | D40: Ingreso, gasto y consumo de los hogares
A41: 1 | B41: 06 | C41: 1 | D41: Ingresos de hogares: | E41: Comprende ingresos monetarios y no monetarios.
A42: 1 | B42: 06 | C42: 2 | D42: Gasto y consumo de los hogares: | E42: Gasto y consumo, deuda y equipamiento e inversiones de los hogares.
D43: Excluye: | E43: Pobreza multidimensional incluido en 3.02.0 Condiciones de vida y pobreza Condiciones de vida incluido en 3.02.0 Condiciones de vida y pobreza.
A45: 1 | B45: 07 | C45: 0 | D45: Protección social
A46: 1 | B46: 07 | C46: 1 | D46: Jubilaciones, pensiones y asignaciones familiares: | E46: Comprende aportantes y beneficiarios del sistema de previsión social.
...

Sheet Datos
A1: Nº | B1: Año | C1: Pais | D1: Codigo de la OE | E1: Nombre Oficial de la OE | F1: Siglas | G1: Organismo Responsable | H1: Participan otros organismos | I1: Nombre del Organismo Participante | L1: Tipo de Participación | S1: Unidad Responsable | T1: Area Ejecutora | U1: Marco Normativo | Z1: 8.1 | AE1: 8.2 | AJ1: 8.3 | AO1: Descriptores | AX1: Objetivo General | AY1: Metodologia de la OE | AZ1: 11.5 Otras, especificar | BA1: Forma de Recoleccion de Datos | BI1: Población Objetivo | BJ1: Unidad de analisis | BX1: Variables | CH1: Indicadores | CR1: Periodicidad de la recoleccion/ actualizacion | CS1: Periodicidad de la recoleccion / actualizacion REGULAR | DE1: Cobertura Geografica | DF1: Otras Coberturas Especificar | DG1: Nivel de desagregacion | DH1: Otro nivel de desagregacion Especificar | DI1: Año de referencia | DJ1: Año de Inicio con la metodologia | DK1: Tipo de difusion | DL1: 20.1. Difusión Pública | DO1: Link | DT1: Año de disponibilidad | DU1: Periodicidad de la difusion | DV1: Periodicidad de la difusion | EH1: Contacto 1 | EI1: Contacto 2 | EJ1: Telefono 1 | EK1: Telefono 2 | EL1: Correo electronico 1 | EM1: Correo electronico 2 | EN1: Observaciones
I2: Organismo 1 | J2: Organismo 2 | K2: Organismo 3 | L2: Aporte financiero | M2: Cooperacion Tecnica | N2: Recoleccion de datos | O2: Procesamiento de la base de datos | P2: Difusion de resultados | Q2: Otro tipo de aporte | R2: Especificar | U2: Ley | V2: Decreto | W2: Decision administrativa / Res. | X2: Otros | Y2: No posee legislacion | Z2: Dominio | AA2: Tema | AB2: Subtema1 | AC2: Subtema2 | AD2: Subtema3 | AE2: Dominio | AF2: Tema | AG2: Subtema1 | AH2: Subtema2 | AI2: Subtema3 | AJ2: Dominio | AK2: Tema | AL2: Subtema1 | AM2: Subtema2 | AN2: Subtema3 | AO2: Descrip_1 | AP2: Descrip_2 | AQ2: Descrip_3 | AR2: Descrip_4 | AS2: Descrip_5 | AT2: Descrip_6 | AU2: Descrip_7 | AV2: Descrip_8 | AW2: Descrip_9 | BA2: CASI | BB2: PASI | BC2: PAPI, CAPI | BD2: CATI, PATI | BE2: Uso de datos administrativos | BF2: Observacion directa de hechos o femonemos | BG2: Otras formas de recoleccion | BH2: Especificar otras formas | BJ2: 14.1 | BK2: 14.2 | BL2: 14.3 | BM2: 14.4 | BN2: 14.5 | BO2: 14.6 | BP2: 14.7 | BQ2: 14.8 | BR2: 14.9 | BS2: 14.10 | BT2: 14.11 | BU2: 14.12 | BV2: 14.13 | BW2: 14.13_Especificar | BX2: Var_1 | BY2: Var_2 | BZ2: Var_3 | CA2: Var_4 | CB2: Var_5 | CC2: Var_6 | CD2: Var_7 | CE2: Var_8 | CF2: Var_9 | CG2: Var_10 | CH2: Indic_1 | CI2: Indic_2 | CJ2: Indic_3 | CK2: Indic_4 | CL2: Indic_5 | CM2: Indic_6 | CN2: Indic_7 | CO2: Indic_8 | CP2: Indic_9 | CQ2: Indic_10 | CS2: 16.1.1 | CT2: 16.1.2 | CU2: 16.1.3 | CV2: 16.1.4 | CW2: 16.1.5 | CX2: 16.1.6 | CY2: 16.1.7 | CZ2: 16.1.8 | DA2: 16.1.9 | DB2: 16.1.10 | DC2: 16.1.11 | DD2: 16.1.11 Especificar | DL2: 20.1.1 | DM2: 20.1.2 | DN2: 20.1.3. | DO2: Resultados agregados | DP2: Microdatos | DQ2: Informacion georreferenciada | DR2: Metodología | DS2: Cuestionario | DV2: 22.1.1 | DW2: 22.1.2 | DX2: 22.1.3 | DY2: 22.1.4 | DZ2: 22.1.5 | EA2: 22.1.6 | EB2: 22.1.7 | EC2: 22.1.8 | ED2: 22.1.9 | EE2: 22.1.10 | EF2: 22.1.11 | EG2: 22.1.11 Especificar
A4: 1 | B4: =Ficha_Tecnica!#REF! -> #REF! | C4: 3 | E4: =CONCATENATE(Ficha_Tecnica!$R$29,Ficha_Tecnica!$B$31) | F4: =Ficha_Tecnica!$L$33 -> 0 | G4: =Ficha_Tecnica!$B$37 -> 0 | H4: 0 | I4: =IF(Datos!H4=1,Ficha_Tecnica!$D$46,"") | J4: =IF(Datos!H4=1,Ficha_Tecnica!$D$48,"") | K4: =IF(Datos!H4=1,Ficha_Tecnica!$D$50,"") | L4: =Opciones!$AD$56 | M4: =Opciones!$AD$57 | N4: =Opciones!$AD$58 | O4: =Opciones!$AD$59 | P4: =Opciones!$AD$60 | Q4: =Opciones!$AD$61 | R4: =IF(Q4=6,Ficha_Tecnica!$U$57," ") | S4: =Ficha_Tecnica!$B$89 -> 0 | T4: =Ficha_Tecnica!$B$98 -> 0 | U4: =Opciones!$AF$67 | V4: =Opciones!$AF$69 | W4: =Opciones!$AF$71 | X4: =Opciones!$AF$73 | Y4: =Opciones!$AF$75 | Z4: =Ficha_Tecnica!$H$121 -> 0 | AA4: =Opciones!$Q$3 -> 0.0 | AB4: =Opciones!$T$4 -> 0.0.0 | AC4: =Opciones!$T$5 -> 0 | AD4: =Opciones!$T$6 -> 0 | AE4: =Ficha_Tecnica!$H$129 -> 0 | AF4: =Opciones!$Q$13 -> 0.0 | AG4: =Opciones!$T$14 -> 0.0.0 | AH4: =Opciones!$T$15 -> 0 | AI4: =Opciones!$T$16 -> 0 | AJ4: =Ficha_Tecnica!$H$137 -> 0 | AK4: =Opciones!$Q$23 -> 0.0 | AL4: =Opciones!$T$24 -> 0.0.0 | AM4: =Opciones!$T$25 -> 0 | AN4: =Opciones!$T$26 -> 0 | AO4: =Ficha_Tecnica!$C$150 -> 0 | AP4: =Ficha_Tecnica!$C$152 -> 0 | AQ4: =Ficha_Tecnica!$C$154 -> 0 | AR4: =Ficha_Tecnica!$N$150 -> 0 | AS4: =Ficha_Tecnica!$N$152 -> 0 | AT4: =Ficha_Tecnica!$N$154 -> 0 | AU4: =Ficha_Tecnica!$Y$150 -> 0 | AV4: =Ficha_Tecnica!$Y$152 -> 0 | AW4: =Ficha_Tecnica!$Y$154 -> 0 | AX4: =Ficha_Tecnica!$B$168 -> 0 | AY4: 0 | AZ4: =IF(AY4=17,Ficha_Tecnica!$M$218,"") | BA4: =Opciones!$AN$80 | BB4: =Opciones!$AN$81 | BC4: =Opciones!$AN$82 | BD4: =Opciones!$AN$83 | BE4: =Opciones!$AN$84 | BF4: =Opciones!$AN$85 | BG4: =Opciones!$AN$86 | BH4: =IF(BG4=7,Ficha_Tecnica!$Q$236," ") | BI4: =Ficha_Tecnica!$B$244 -> 0 | BJ4: =Opciones!$AP$91 | BK4: =Opciones!$AP$92 | BL4: =Opciones!$AP$93 | BM4: =Opciones!$AP$94 | BN4: =Opciones!$AP$95 | BO4: =Opciones!$AP$96 | BP4: =Opciones!$AP$97 | BQ4: =Opciones!$AP$98 | BR4: =Opciones!$AP$99 | BS4: =Opciones!$AP$100 | BT4: =Opciones!$AP$101 | BU4: =Opciones!$AP$102 | BV4: =Opciones!$AP$103 | BW4: =IF(BV4=13,Ficha_Tecnica!$J$265,"") | BX4: =Ficha_Tecnica!$C$278 -> 0 | BY4: =Ficha_Tecnica!$C$280 -> 0 | BZ4: =Ficha_Tecnica!$C$282 -> 0 | CA4: =Ficha_Tecnica!$C$284 -> 0 | CB4: =Ficha_Tecnica!$C$286 -> 0 | CC4: =Ficha_Tecnica!$T$278 -> 0 | CD4: =Ficha_Tecnica!$T$280 -> 0 | CE4: =Ficha_Tecnica!$T$282 -> 0 | CF4: =Ficha_Tecnica!$T$284 -> 0 | CG4: =Ficha_Tecnica!$T$286 -> 0 | CH4: =Ficha_Tecnica!$C$304 -> 0 | CI4: =Ficha_Tecnica!$C$306 -> 0 | CJ4: =Ficha_Tecnica!$C$308 -> 0 | CK4: =Ficha_Tecnica!$C$310 -> 0 | CL4: =Ficha_Tecnica!$C$312 -> 0 | CM4: =Ficha_Tecnica!$T$304 -> 0 | CN4: =Ficha_Tecnica!$T$306 -> 0 | CO4: =Ficha_Tecnica!$T$308 -> 0 | CP4: =Ficha_Tecnica!$T$310 -> 0 | CQ4: =Ficha_Tecnica!$T$312 -> 0 | CR4: 0 | CS4: =Opciones!$AE$109 | CT4: =Opciones!$AE$110 | CU4: =Opciones!$AE$111 | CV4: =Opciones!$AE$112 | CW4: =Opciones!$AE$113 | CX4: =Opciones!$AE$114 | CY4: =Opciones!$AE$115 | CZ4: =Opciones!$AE$116 | DA4: =Opciones!$AE$117 | DB4: =Opciones!$AE$118 | DC4: =Opciones!$AE$119 | DD4: =IF(DC4=11,Ficha_Tecnica!$T$323," ") | DE4: =Opciones!$M$49 | DF4: =IF(DE4=8,Ficha_Tecnica!$P$339," ") | DG4: =Opciones!$M$53 | DH4: =IF(DG4=8,Ficha_Tecnica!$Q$356," ") | DI4: =IF(Opciones!$U$34>0,Opciones!U34,IF(Opciones!AF34=TRUE,"999"," ")) | DJ4: =Ficha_Tecnica!$U$369 -> 0 | DK4: 0 | DL4: =Opciones!$AO$125 | DM4: =Opciones!$AO$126 | DN4: =Opciones!$AO$127 | DO4: =Opciones!$W$41 | DP4: =Opciones!$W$42 | DQ4: =Opciones!$W$43 | DR4: =Opciones!$W$44 | DS4: =Opciones!$W$45 | DT4: =Ficha_Tecnica!$AC$398 -> 0 | DU4: 0 | DV4: =Opciones!$AE$133 | DW4: =Opciones!$AE$134 | DX4: =Opciones!$AE$135 | DY4: =Opciones!$AE$136 | DZ4: =Opciones!$AE$137 | EA4: =Opciones!$AE$138 | EB4: =Opciones!$AE$139 | EC4: =Opciones!$AE$140 | ED4: =Opciones!$AE$141 | EE4: =Opciones!$AE$142 | EF4: =Opciones!$AE$143 | EG4: =IF(EF4=11,Ficha_Tecnica!$T$408," ") | EH4: =Ficha_Tecnica!$B$417 -> 0 | EI4: =Ficha_Tecnica!$B$419 -> 0 | EJ4: =Ficha_Tecnica!$I$423 -> 0 | EK4: =Ficha_Tecnica!$T$423 -> 0 | EL4: =Ficha_Tecnica!$L$425 -> 0 | EM4: =Ficha_Tecnica!$W$425 -> 0 | EN4: =Ficha_Tecnica!B437 -> 0

Sheet Opciones
A1: Pais | B1: Descripción | C1: Código
B2: Argentina | C2: 1 | H2: 8.1.1. Dominio | M2: =Ficha_Tecnica!H121 -> 0
B3: Brasil | C3: 2 | F3: 8.1 | J3: 8.1.2. Tema | N3: =Ficha_Tecnica!I122 -> 0 | Q3: =CONCATENATE(M2,".",N3) -> 0.0
B4: Paraguay | C4: 3 | K4: 8.1.3. Subtema | P4: =Ficha_Tecnica!K123 -> 0 | R4: =CONCATENATE(M2,".",N3,".",P4) -> 0.0.0 | T4: =R4 -> 0.0.0
B5: Uruguay | C5: 4 | K5: 8.1.3. Subtema | P5: =Ficha_Tecnica!K124 -> 0 | R5: =CONCATENATE(M2,".",N3,".",P5) -> 0.0.0 | T5: =IF(P5=0,"0",R5) -> 0
B6: Venezuela | C6: 5 | K6: 8.1.3. Subtema | P6: =Ficha_Tecnica!K125 -> 0 | R6: =CONCATENATE(M2,".",N3,".",P6) -> 0.0.0 | T6: =IF(P6=0,"0",R6) -> 0
B7: Bolivia | C7: 6
A9: Participan otros organismos | B9: Descripción | C9: Código
B10: Si | C10: 1
B11: No | C11: 2
H12: 8.2.1. Dominio | M12: =Ficha_Tecnica!H129 -> 0
F13: 8.2 | J13: 8.2.2. Tema | N13: =Ficha_Tecnica!I130 -> 0 | Q13: =CONCATENATE(M12,".",N13) -> 0.0
C14: DOMINIO | K14: 8.2.3. Subtema | P14: =Ficha_Tecnica!K131 -> 0 | R14: =CONCATENATE(M12,".",N13,".",P14) -> 0.0.0 | T14: =R14 -> 0.0.0
C15: 1 | D15: 1. Demografía y Estadísticas Sociales | K15: 8.2.3. Subtema | P15: =Ficha_Tecnica!K132 -> 0 | R15: =CONCATENATE(M12,".",N13,".",P15) -> 0.0.0 | T15: =IF(P15=0,"0",R15) -> 0
C16: 2 | D16: 2. Estadísticas Económicas | K16: 8.2.3. Subtema | P16: =Ficha_Tecnica!K133 -> 0 | R16: =CONCATENATE(M12,".",N13,".",P16) -> 0.0.0 | T16: =IF(P16=0,"0",R16) -> 0
C17: 3 | D17: 3. Estadísticas del Medio Ambiente y Estadísticas de Múltiples Dominios
C18: 4 | D18: 4. Metodologías y Clasificaciones
C20: TEMA
B21: 1 | C21: 1.1 | D21: 1.01.0. Población
B22: 2 | C22: 1.2 | D22: 1.02.0. Género y grupos poblacionales | H22: 8.3.1. Dominio | M22: =Ficha_Tecnica!H137 -> 0
B23: 3 | C23: 1.3 | D23: 1.03.0. Trabajo | F23: 8.3 | J23: 8.3.2. Tema | N23: =Ficha_Tecnica!I138 -> 0 | Q23: =CONCATENATE(M22,".",N23) -> 0.0
B24: 4 | C24: 1.4 | D24: 1.04.0. Educación | K24: 8.3.3. Subtema | P24: =Ficha_Tecnica!K139 -> 0 | R24: =CONCATENATE(M22,".",N23,".",P24) -> 0.0.0 | T24: =R24 -> 0.0.0
B25: 5 | C25: 1.5 | D25: 1.05.0. Salud | K25: 8.3.3. Subtema | P25: =Ficha_Tecnica!K140 -> 0 | R25: =CONCATENATE(M22,".",N23,".",P25) -> 0.0.0 | T25: =IF(P25=0,"0",R25) -> 0
B26: 6 | C26: 1.6 | D26: 1.06.0. Ingreso, gasto y consumo de los hogares | K26: 8.3.3. Subtema | P26: =Ficha_Tecnica!K141 -> 0 | R26: =CONCATENATE(M22,".",N23,".",P26) -> 0.0.0 | T26: =IF(P26=0,"0",R26) -> 0
B27: 7 | C27: 1.7 | D27: 1.07.0. Protección social
B28: 8 | C28: 1.8 | D28: 1.08.0. Vivienda
B29: 9 | C29: 1.9 | D29: 1.09.0. Justicia y seguridad
B30: 10 | C30: 1.10 | D30: 1.10.0. Cultura, Recreación y Deportes
B31: 11 | C31: 1.11 | D31: 1.11.0. Administración pública; Participación política y social
B32: 12 | C32: 1.12 | D32: 1.12.0. Uso del tiempo | H32: 19. Año de Referencia y Año de Inicio de la OE
B33: 1 | C33: 2.1 | D33: 2.01.0. Estadísticas macroeconómicas
B34: 2 | C34: 2.2 | D34: 2.02.0. Agricultura, Ganadería, Pesca y acuicultura, Producción forestal | H34: 19.1 Referencia de los datos de la OE | U34: =Ficha_Tecnica!$P$367 -> 0 | AB34: No aplica | AF34: FALSE
B35: 3 | C35: 2.3 | D35: 2.03.0. Industrias extractivas
B36: 4 | C36: 2.4 | D36: 2.04.0. Industria de transformación / manufacturera | H36: 19.2 Inicio de la OE con la metodología vigente | X36: =Ficha_Tecnica!$U$369 -> 0
B37: 5 | C37: 2.5 | D37: 2.05.0. Construcción
B38: 6 | C38: 2.6 | D38: 2.06.0. Transporte
B39: 7 | C39: 2.7 | D39: 2.07.0. Comercio
B40: 8 | C40: 2.8 | D40: 2.08.0. Finanzas, banca y seguros | H40: 20. Tipo de difusión LINK
B41: 9 | C41: 2.9 | D41: 2.09.0. Otros servicios | J41: 20.1.3.1 | K41: FALSE | Q41: Resultados agregados: | W41: =IF(K41=TRUE,Ficha_Tecnica!$J$383,"")
B42: 10 | C42: 2.10 | D42: 2.10.0. Energía | J42: 20.1.3.2 | K42: FALSE | Q42: Microdatos: | W42: =IF(K42=TRUE,Ficha_Tecnica!$J$385,"")
...
